BEGIN:VCALENDAR
VERSION:2.0
PRODID:-//Ortsgemeinde Sosberg - ECPv6.15.20//NONSGML v1.0//EN
CALSCALE:GREGORIAN
METHOD:PUBLISH
X-WR-CALNAME:Ortsgemeinde Sosberg
X-ORIGINAL-URL:https://sosberg.de
X-WR-CALDESC:Veranstaltungen für Ortsgemeinde Sosberg
REFRESH-INTERVAL;VALUE=DURATION:PT1H
X-Robots-Tag:noindex
X-PUBLISHED-TTL:PT1H
BEGIN:VTIMEZONE
TZID:Europe/Berlin
BEGIN:DAYLIGHT
TZOFFSETFROM:+0100
TZOFFSETTO:+0200
TZNAME:CEST
DTSTART:20250330T010000
END:DAYLIGHT
BEGIN:STANDARD
TZOFFSETFROM:+0200
TZOFFSETTO:+0100
TZNAME:CET
DTSTART:20251026T010000
END:STANDARD
BEGIN:DAYLIGHT
TZOFFSETFROM:+0100
TZOFFSETTO:+0200
TZNAME:CEST
DTSTART:20260329T010000
END:DAYLIGHT
BEGIN:STANDARD
TZOFFSETFROM:+0200
TZOFFSETTO:+0100
TZNAME:CET
DTSTART:20261025T010000
END:STANDARD
BEGIN:DAYLIGHT
TZOFFSETFROM:+0100
TZOFFSETTO:+0200
TZNAME:CEST
DTSTART:20270328T010000
END:DAYLIGHT
BEGIN:STANDARD
TZOFFSETFROM:+0200
TZOFFSETTO:+0100
TZNAME:CET
DTSTART:20271031T010000
END:STANDARD
END:VTIMEZONE
BEGIN:VEVENT
DTSTART;TZID=Europe/Berlin:20260430T180000
DTEND;TZID=Europe/Berlin:20260430T233000
DTSTAMP:20260422T120639
CREATED:20260420T144904Z
LAST-MODIFIED:20260420T144917Z
UID:2625-1777572000-1777591800@sosberg.de
SUMMARY:Tanz in den Mai 2026
DESCRIPTION:Liebe Dorfgemeinschaft\, liebe Nachbarinnen und Nachbarn\, \nes ist wieder soweit – der Frühling ist da\, und das wollen wir gemeinsam feiern! \nDaher laden wir Euch herzlich zum Tanz in den Mai ein. \nWann: Mittwoch\, 30. April 2026\, ab 18:00 Uhr\nWo: am Dorfbrunnen \nFreut Euch auf einen stimmungsvollen Abend mit Musik\, Tanz und guter Laune. \nFür das leibliche Wohl ist bestens gesorgt: Es erwarten Euch leckere Speisen\, erfrischende Getränke und eine ausgelassene Atmosphäre. \nGanz egal\, ob Ihr tanzen\, plaudern oder einfach nur die Gemeinschaft genießen wollt – alle sind willkommen! \nBringt Eure Familie\, Freundinnen und Freunde mit und lasst uns gemeinsam den Mai gebührend begrüßen. \nWir freuen uns auf Euer Kommen und auf einen unvergesslichen Abend!\nHerzliche Grüße\, \neure freiwillige Feuerwehr Sosberg
URL:https://sosberg.de/event/tanz-in-den-mai-2026
LOCATION:Brunnenplatz\, Hauptstrasse 8\, Sosberg\, Rheinland-Pfalz\, 56858\, Germany
END:VEVENT
END:VCALENDAR