BEGIN:VCALENDAR
VERSION:2.0
PRODID:-//Ortsgemeinde Sosberg - ECPv6.15.20//NONSGML v1.0//EN
CALSCALE:GREGORIAN
METHOD:PUBLISH
X-WR-CALNAME:Ortsgemeinde Sosberg
X-ORIGINAL-URL:https://sosberg.de
X-WR-CALDESC:Veranstaltungen für Ortsgemeinde Sosberg
REFRESH-INTERVAL;VALUE=DURATION:PT1H
X-Robots-Tag:noindex
X-PUBLISHED-TTL:PT1H
BEGIN:VTIMEZONE
TZID:Europe/Berlin
BEGIN:DAYLIGHT
TZOFFSETFROM:+0100
TZOFFSETTO:+0200
TZNAME:CEST
DTSTART:20250330T010000
END:DAYLIGHT
BEGIN:STANDARD
TZOFFSETFROM:+0200
TZOFFSETTO:+0100
TZNAME:CET
DTSTART:20251026T010000
END:STANDARD
BEGIN:DAYLIGHT
TZOFFSETFROM:+0100
TZOFFSETTO:+0200
TZNAME:CEST
DTSTART:20260329T010000
END:DAYLIGHT
BEGIN:STANDARD
TZOFFSETFROM:+0200
TZOFFSETTO:+0100
TZNAME:CET
DTSTART:20261025T010000
END:STANDARD
BEGIN:DAYLIGHT
TZOFFSETFROM:+0100
TZOFFSETTO:+0200
TZNAME:CEST
DTSTART:20270328T010000
END:DAYLIGHT
BEGIN:STANDARD
TZOFFSETFROM:+0200
TZOFFSETTO:+0100
TZNAME:CET
DTSTART:20271031T010000
END:STANDARD
END:VTIMEZONE
BEGIN:VEVENT
DTSTART;TZID=Europe/Berlin:20260430T180000
DTEND;TZID=Europe/Berlin:20260430T233000
DTSTAMP:20260422T123041
CREATED:20260420T144904Z
LAST-MODIFIED:20260420T144917Z
UID:2625-1777572000-1777591800@sosberg.de
SUMMARY:Tanz in den Mai 2026
DESCRIPTION:Liebe Dorfgemeinschaft\, liebe Nachbarinnen und Nachbarn\, \nes ist wieder soweit – der Frühling ist da\, und das wollen wir gemeinsam feiern! \nDaher laden wir Euch herzlich zum Tanz in den Mai ein. \nWann: Mittwoch\, 30. April 2026\, ab 18:00 Uhr\nWo: am Dorfbrunnen \nFreut Euch auf einen stimmungsvollen Abend mit Musik\, Tanz und guter Laune. \nFür das leibliche Wohl ist bestens gesorgt: Es erwarten Euch leckere Speisen\, erfrischende Getränke und eine ausgelassene Atmosphäre. \nGanz egal\, ob Ihr tanzen\, plaudern oder einfach nur die Gemeinschaft genießen wollt – alle sind willkommen! \nBringt Eure Familie\, Freundinnen und Freunde mit und lasst uns gemeinsam den Mai gebührend begrüßen. \nWir freuen uns auf Euer Kommen und auf einen unvergesslichen Abend!\nHerzliche Grüße\, \neure freiwillige Feuerwehr Sosberg
URL:https://sosberg.de/event/tanz-in-den-mai-2026
LOCATION:Brunnenplatz\, Hauptstrasse 8\, Sosberg\, Rheinland-Pfalz\, 56858\, Germany
END:VEVENT
BEGIN:VEVENT
DTSTART;TZID=Europe/Berlin:20260501T110000
DTEND;TZID=Europe/Berlin:20260501T170000
DTSTAMP:20260422T123041
CREATED:20260420T145202Z
LAST-MODIFIED:20260420T161104Z
UID:2628-1777633200-1777654800@sosberg.de
SUMMARY:3. Highline Event – „GEIERLAY goes HIGH“ am 01. Mai 2026
DESCRIPTION:Einladung zum 3. Highline Event – „GEIERLAY goes HIGH“ am 01. Mai 2026 \n\n \nLiebe Abenteuerlustige\, \nes ist wieder soweit – das spektakuläre „GEIERLAY goes HIGH“ geht in die nächste Runde! Am 01. Mai 2026 erwartet euch ein unvergessliches Erlebnis hoch über dem idyllischen Mörsdorfer Bachtal. \n Datum: 01. Mai 2026 Uhrzeit: 11:00 – 17:00 Uhr Ort: Geierlay Hängeseilbrücke\, Sosberger Seite \nWas euch erwartet: Atemberaubende Highline-Action: Die Profis von Slackline Mittelhessen zeigen spektakuläre Kunststücke auf speziellen Seilen entlang der 360 Meter langen Geierlay Hängeseilbrücke. Spannung und Nervenkitzel garantiert! \n  Getränke von der Sosberger Feuerwehr \nKommt vorbei\, erlebt Adrenalin pur und lasst euch von der einzigartigen Atmosphäre mitreißen! Vergesst eure Kamera nicht\, um die besten Momente festzuhalten. \nWir freuen uns auf euch! \nDie freiwillige Feuerwehr und das Dorf Sosberg
URL:https://sosberg.de/event/3-highline-event-geierlay-goes-high-am-01-mai-2026
LOCATION:Sosberger Brückenkopf der Geierlay\, 50.088533\, 7.339622\, Sosberg\, Rheinland-Pfalz\, 56858\, Germany
END:VEVENT
BEGIN:VEVENT
DTSTART;TZID=Europe/Berlin:20260514T110000
DTEND;TZID=Europe/Berlin:20260514T220000
DTSTAMP:20260422T123042
CREATED:20260420T144003Z
LAST-MODIFIED:20260420T154859Z
UID:2623-1778756400-1778796000@sosberg.de
SUMMARY:3. Mosel meets Hunsrück am 14. Mai 2026
DESCRIPTION:Einladung zum 3. „Mosel meets Hunsrück“ am 14. Mai 2026 \nLiebe Freunde des guten Geschmacks und der geselligen Atmosphäre\, \nnach dem großartigen Erfolg im letzten Jahr geht „Mosel meets Hunsrück“ in die dritte Runde! \nSeid dabei\, wenn sich die besten Weine der Mosel mit den kulinarischen Köstlichkeiten des Hunsrücks vereinen und wir gemeinsam einen unvergesslichen Tag erleben. \n📅 Datum: 14. Mai 2026⏰ Uhrzeit: 11:00 – 22:00 Uhr📍 Ort:  Sosberger Brückenkopf der Geierlay \nWas euch erwartet:\n🍽️ Kulinarische Köstlichkeiten von Karin Bauer-Wolf🍷 Edle Weine aus der Mosel- und Hunsrückregion☕ Kaffee & Kuchen für den gemütlichen Genuss🍻 Bierbrunnen der Freiwilligen Feuerwehr Sosberg🎶 Livemusik am Abend mit Olaf Lenk an der Gitarre\n \nErlebt die perfekte Verbindung von gutem Essen\, erstklassigen Weinen und mitreißender Musik und genießt die besondere Atmosphäre dieses einzigartigen Events. \nBringt eure Freunde und Familie mit – wir freuen uns auf euch!!!
URL:https://sosberg.de/event/3-mosel-meets-hunsrueck-am-14-mai-2026
LOCATION:Sosberger Brückenkopf der Geierlay\, 50.088533\, 7.339622\, Sosberg\, Rheinland-Pfalz\, 56858\, Germany
ATTACH;FMTTYPE=image/jpeg:https://sosberg.de/wp-content/uploads/2026/04/mosel-meets-hunsrueck-2026.jpg
END:VEVENT
END:VCALENDAR